BEGIN:VCALENDAR
VERSION:2.0
PRODID:-//Antsla Valla Kultuurikeskus - ECPv6.3.1//NONSGML v1.0//EN
CALSCALE:GREGORIAN
METHOD:PUBLISH
X-ORIGINAL-URL:https://antslakultuur.ee
X-WR-CALDESC:Events for Antsla Valla Kultuurikeskus
REFRESH-INTERVAL;VALUE=DURATION:PT1H
X-Robots-Tag:noindex
X-PUBLISHED-TTL:PT1H
BEGIN:VTIMEZONE
TZID:Europe/Helsinki
BEGIN:DAYLIGHT
TZOFFSETFROM:+0200
TZOFFSETTO:+0300
TZNAME:EEST
DTSTART:20230326T010000
END:DAYLIGHT
BEGIN:STANDARD
TZOFFSETFROM:+0300
TZOFFSETTO:+0200
TZNAME:EET
DTSTART:20231029T010000
END:STANDARD
END:VTIMEZONE
BEGIN:VEVENT
DTSTART;TZID=Europe/Helsinki:20230606T173000
DTEND;TZID=Europe/Helsinki:20230606T190000
DTSTAMP:20260422T123013
CREATED:20230512T073224Z
LAST-MODIFIED:20230512T073224Z
UID:1266-1686072600-1686078000@antslakultuur.ee
SUMMARY:Antsla Muusikakooli Kevadkontsert
DESCRIPTION:
URL:https://antslakultuur.ee/event/antsla-muusikakooli-kevadkontsert-2/
LOCATION:Urvaste kirik\, Kirikuküla\, Antsla vald\, Võrumaa\, 66512\, Eesti
CATEGORIES:Muusikakool
ATTACH;FMTTYPE=image/jpeg:https://antslakultuur.ee/wp-content/uploads/2023/05/MK-urvaste-kontsert.jpg
END:VEVENT
BEGIN:VEVENT
DTSTART;TZID=Europe/Helsinki:20230607T180000
DTEND;TZID=Europe/Helsinki:20230607T193000
DTSTAMP:20260422T123013
CREATED:20230515T100947Z
LAST-MODIFIED:20230515T100947Z
UID:1279-1686160800-1686166200@antslakultuur.ee
SUMMARY:Antsla laste ja noorte 29. laulu- ja tantsupidu RÕÕM LIIKUMISEST
DESCRIPTION:
URL:https://antslakultuur.ee/event/antsla-laste-ja-noorte-29-laulu-ja-tantsupidu-room-liikumisest/
LOCATION:Antsla Laululava\, Antsla\, Võrumaa\, Eesti
CATEGORIES:Kontsert
ATTACH;FMTTYPE=image/jpeg:https://antslakultuur.ee/wp-content/uploads/2023/05/room-liikumisest.jpg
END:VEVENT
BEGIN:VEVENT
DTSTART;TZID=Europe/Helsinki:20230609T080000
DTEND;TZID=Europe/Helsinki:20230609T130000
DTSTAMP:20260422T123013
CREATED:20230602T091623Z
LAST-MODIFIED:20230602T091623Z
UID:1303-1686297600-1686315600@antslakultuur.ee
SUMMARY:Antsla Gümnaasiumi loovainete päev Antsla Kultuurimajas
DESCRIPTION:
URL:https://antslakultuur.ee/event/antsla-gumnaasiumi-loovainete-paev-antsla-kultuurimajas/
LOCATION:Antsla Kultuurikeskus\, Kooli tee 19\, Antsla\, Võrumaa\, 66403\, Eesti
CATEGORIES:Huvitegevus
ATTACH;FMTTYPE=image/jpeg:https://antslakultuur.ee/wp-content/uploads/2023/06/Antsla-Gumnaasiumi-LOOVAINETE-PAEV-Antsla-Kultuurikeskuses.jpg
END:VEVENT
BEGIN:VEVENT
DTSTART;TZID=Europe/Helsinki:20230615T190000
DTEND;TZID=Europe/Helsinki:20230615T200000
DTSTAMP:20260422T123013
CREATED:20230608T133823Z
LAST-MODIFIED:20230608T133823Z
UID:1307-1686855600-1686859200@antslakultuur.ee
SUMMARY:Tantsuselts Pärliine tänukontsert SÕBRAD KOOS
DESCRIPTION:
URL:https://antslakultuur.ee/event/tantsuselts-parliine-tanukontsert-sobrad-koos/
LOCATION:Antsla Kultuurikeskus\, Kooli tee 19\, Antsla\, Võrumaa\, 66403\, Eesti
CATEGORIES:Kontsert
ATTACH;FMTTYPE=image/jpeg:https://antslakultuur.ee/wp-content/uploads/2023/06/Tantsuselts-Parliine-tanukontsert-2023.jpg
END:VEVENT
BEGIN:VEVENT
DTSTART;TZID=Europe/Helsinki:20230618T130000
DTEND;TZID=Europe/Helsinki:20230618T160000
DTSTAMP:20260422T123013
CREATED:20230517T085012Z
LAST-MODIFIED:20230517T085012Z
UID:1296-1687093200-1687104000@antslakultuur.ee
SUMMARY:Meistrite päev 2023
DESCRIPTION:18. juunil kell 13-16 Antsla kesklinna pargis Liikumisaastale pühendatud mitmekülgse programmiga kogupere sündmus: rattaorienteerumine\, vibulaskmine\, ühistantsud\, kohalike meistrite laat\, erinevad töötoad\, kontsert\, võistlused ja palju muud.
URL:https://antslakultuur.ee/event/meistrite-paev-2023/
LOCATION:Antsla kesklinn\, Veski\, Antsla\, Võrumaa\, 66403\, Eesti
CATEGORIES:Muu
ATTACH;FMTTYPE=image/jpeg:https://antslakultuur.ee/wp-content/uploads/2023/05/340434085_187245547464561_4804725246129091408_n.jpg
END:VEVENT
BEGIN:VEVENT
DTSTART;TZID=Europe/Helsinki:20230623T210000
DTEND;TZID=Europe/Helsinki:20230623T233000
DTSTAMP:20260422T123013
CREATED:20230512T073527Z
LAST-MODIFIED:20230512T073527Z
UID:1269-1687554000-1687563000@antslakultuur.ee
SUMMARY:Tsooru jaaniõhtu
DESCRIPTION:
URL:https://antslakultuur.ee/event/tsooru-jaaniohtu/
LOCATION:Tsooru Rahvamaja\, Tsooru\, Antsla vald\, Võrumaa\, Eesti
CATEGORIES:Muu
ATTACH;FMTTYPE=image/jpeg:https://antslakultuur.ee/wp-content/uploads/2023/05/tsooru-jaaniOhtu.jpg
END:VEVENT
BEGIN:VEVENT
DTSTART;TZID=Europe/Helsinki:20230624T190000
DTEND;TZID=Europe/Helsinki:20230624T233000
DTSTAMP:20260422T123013
CREATED:20230531T083924Z
LAST-MODIFIED:20230531T083924Z
UID:1300-1687633200-1687649400@antslakultuur.ee
SUMMARY:VANA-AJA JAANIÕHTU Uue-Antsla pargis
DESCRIPTION:Laupäevasel päeval\, 24. juunil 2023\nvarasel õhtupoolikul\, hakatusega kell 19\npannakse toime MTÜ Kaksküla korraldusel\nAntsla vallas Uue-Antsla Rahvamaja pargis\n\nVANA-AJA JAANIÕHTU\n• Lasva rahvamaja näitetrupp etendab lõbusat näitemängu “PILA-PEETRI TESTAMENT”. Etenduse algus kell 19.00\n• Süütame jaanitule.\n• Muusikat teeb koosseis HEINO TARTES JA SÕBRAD\,\n• HAANJA TANTSU MÄNGU LAULU SELTS\n• Rahvalikud mängud ja jõukatsumised\n• Hobuvankrisõit\n• Loterii-allegrii\n• Külakõrts\n\nSissepääse tasuta.\nOma äranägemise järgi saab teha pidu-õhtu toetuseks annetuse. Vihma korral pidu rahvamajas.\n\nPidu-õhtu toimumisele aitavad kaasa:\nühendasutus Antsla Valla Kultuurikeskus\, MTÜ Uue-Antsla Vanaemad ja vabatahtlikud.
URL:https://antslakultuur.ee/event/vana-aja-jaaniohtu-uue-antsla-pargis/
LOCATION:Uue-Antsla Rahvamaja\, Uue-Antsla\, Antsla vald\, Võrumaa\, Eesti
CATEGORIES:Tantsuõhtu
ATTACH;FMTTYPE=image/jpeg:https://antslakultuur.ee/wp-content/uploads/2023/05/347403777_1308928863043806_3408852816501602609_n.jpg
END:VEVENT
END:VCALENDAR