BEGIN:VCALENDAR
VERSION:2.0
PRODID:-//Antsla Valla Kultuurikeskus - ECPv6.3.1//NONSGML v1.0//EN
CALSCALE:GREGORIAN
METHOD:PUBLISH
X-ORIGINAL-URL:https://antslakultuur.ee
X-WR-CALDESC:Events for Antsla Valla Kultuurikeskus
REFRESH-INTERVAL;VALUE=DURATION:PT1H
X-Robots-Tag:noindex
X-PUBLISHED-TTL:PT1H
BEGIN:VTIMEZONE
TZID:Europe/Helsinki
BEGIN:DAYLIGHT
TZOFFSETFROM:+0200
TZOFFSETTO:+0300
TZNAME:EEST
DTSTART:20230326T010000
END:DAYLIGHT
BEGIN:STANDARD
TZOFFSETFROM:+0300
TZOFFSETTO:+0200
TZNAME:EET
DTSTART:20231029T010000
END:STANDARD
END:VTIMEZONE
BEGIN:VEVENT
DTSTART;TZID=Europe/Helsinki:20230807T100000
DTEND;TZID=Europe/Helsinki:20230809T190000
DTSTAMP:20260422T090316
CREATED:20230515T104004Z
LAST-MODIFIED:20230515T104004Z
UID:1290-1691402400-1691607600@antslakultuur.ee
SUMMARY:Tantsutsooni linnalaager
DESCRIPTION:Laager toimub 7.-9. augustil Antsla kultuurikeskuses. Linnalaager on suunatud 1.-5. klassi lastele ja sinna on oodatud kõik tantsuhuvilised lapsed. Oodatud on ka sügisel 1. klassi minevad lapsed! Eelnev tantsukogemus ei ole oluline! Tegemist on linnalaagriga\, see tähendab\, et laagris ööbimist ei toimu. Laagripäev algab kell 10.30 ja lõpeb kell 17.15. \nLaagritasu on 60 eurot (tasuda saab kuni kahes osas). Laagri hind sisaldab kolme päeva jooksul mitmeid erinevaid tantsulisi töötubasid (showtants\, loovtants\, akrobaatika jne)\, meisterdamise töötubasid koos vahenditega\, põnevaid loovülesandeid õues\, soe lõunasöök + tervislik snäkk igal päeval\, filmiõhtut jne. Laagri lõpus toimub kontsert\, kus näitame vanematele ja teistele soovijatele\, mida oleme kolme päeva jooksul õppinud. Kõik linnalaagris osalejad saavad endaga kaasa Tantsutsooni logoga meene. Õpetajateks on juba tuttavad tantsuõpetajad Kadi Keskülla ja Egely Sarv.\nNB! Alates 1. augustist laagris osalemise tühistamisel tuleb tasuda ikkagi 50% laagritasust. \nREGISTREERMINE:\nTantsutsooni Minid linnalaagrisse registreerimiseks tuleb kirjutada tantsutsoon@gmail.com lapse NIMI\, VANUS ja VANEMA KONTAKTANDMED.
URL:https://antslakultuur.ee/event/tantsutsooni-linnalaager/
LOCATION:Antsla Kultuurikeskus\, Kooli tee 19\, Antsla\, Võrumaa\, 66403\, Eesti
CATEGORIES:laager
ATTACH;FMTTYPE=image/jpeg:https://antslakultuur.ee/wp-content/uploads/2023/05/344915702_947957346356704_6748970133197440934_n.jpg
ORGANIZER;CN="Tantsutsoon tantsukool":MAILTO:tantsutsoon@gmail.com
END:VEVENT
BEGIN:VEVENT
DTSTART;TZID=Europe/Helsinki:20230811T210000
DTEND;TZID=Europe/Helsinki:20230811T223000
DTSTAMP:20260422T090316
CREATED:20230512T082447Z
LAST-MODIFIED:20230512T082447Z
UID:1273-1691787600-1691793000@antslakultuur.ee
SUMMARY:Hauka laada kontserdid: Rein Rannap ja Ott Lepland
DESCRIPTION:Hauka Laat 2023 muusikalise programmi avavad kaks virtuoosi: Rein Rannap ja Ott Lepland!\nRohkem kui viiskümmend aastat suurtel lavadel esinenud maestro Rein Rannap ning Eesti üks hinnatumaid meeslauljaid Ott Lepland kutsuvad teid muusikalisele rännakule unikaalse atmosfääriga Antsla augulaval.\nRein ja Ott on ühiselt esitanud nii Ruja loomingut\, toonud lavalaudadele rock-ooperi\, ning andnud koostöös välja ka täispika album “Tagasirändur”.\nKontserdil kuuleme Rein Rannapi ajatuid ning rahva südames oma koha leidnud igihaljaid meloodiaid. \nKontsertõhtu toimub üritustesarja Antsla Acoustic raames\, mis pakub akustilise muusika elamusi aastaringselt.\nKoosseis:\nOtt Lepland – vokaal\nRein Rannap – klaver
URL:https://antslakultuur.ee/event/hauka-laada-kontserdid-rein-rannap-ja-ott-lepland/
LOCATION:Antsla Augulava\, Tamme\, Antsla\, Võrumaa
CATEGORIES:antsla acoustic
ATTACH;FMTTYPE=image/jpeg:https://antslakultuur.ee/wp-content/uploads/2023/05/c385a50994ae26aba594b3f3eb4dcbe9.jpg
ORGANIZER;CN="Hauka Laat MT%C3%9C":MAILTO:info@haukalaat.ee
END:VEVENT
BEGIN:VEVENT
DTSTART;TZID=Europe/Helsinki:20230812T210000
DTEND;TZID=Europe/Helsinki:20230812T230000
DTSTAMP:20260422T090316
CREATED:20230512T082656Z
LAST-MODIFIED:20230512T082656Z
UID:1276-1691874000-1691881200@antslakultuur.ee
SUMMARY:Hauka Laada kontserdid: Kadri Voorand\, Anett
DESCRIPTION:Anett \nHauka Laat 2023 muusikalise programmi osana astub kaasaegse souli laulja-laulukirjutaja Anett esmakordselt üles Võrumaal\, Antsla augulaval.\n2021 aasta naisartisti ning rohkete auhindadega pärjatud Aneti kontserdil tulevad esitlusele artisti uue albumi “Late to the Party” lood\, ning ka juba kõigile tuntud varasemad hitid. \nKoosseis:\nAnett – vokaal\nJohannes Laas – kitarr \nBiograafia:\nAneti debüütalbum “Morning After” tõi talle 2021. aasta Eesti Muusikaauhindadel Aasta albumi nominatsiooni ning Aasta Naisartisti ja Aasta Popartisti tiitlid.\nAnett on astumas ka esimesi ekspordisaamme – möödunud aasta kevadel astus ta üles Liverpool Sound City (UK) muusikafestivalil ning andis sama aasta suvel välja enda esimese rahvusvahelise singli “You Got Love”\, koos UK produtsendi Pearse Macyntirega\, kes on teiste seas töötanud ka Gregory Porteriga.\nAnett osales eelmisel aastal taas Eesti Laulu konkursil\, looga “You Need To Move On”. Taaskord koostöös produtsendi-kitarristiga Fredi\, kellega esimese koostööna sündis “Write About Me”\, millega saavutati 2020. aasta Eesti Laulul kolmas koht ja välisžürii favoriidi staatus. \nKadri Voorand \n Kadri Voorand on armastatud Eesti vokalist ja helilooja\, kelle kirglik esitus on pälvinud palju heakskiitu nii kodu- kui ka välismaal.\nMihkel Mälgand on üks muusikaliselt aktiivsemaid bassiste Eestis.\nKoos moodustavad nad duo\, mis mängib põhiliselt originaalloomingut häälele\, bassile ja klaverile\, mis annab ruumi improvisatsioonile ning mida ehivad õhulised elektroonilised efektid ja hingestatud poeesia. Duo ei sea endale stiililisi piire\, kokku sulatatakse popi\, folgi\, jazzi ja isegi rocki elemente. Esile tõusevad emotsioon ja omapärased tekstid. \n Koosseis:\nKadri Voorand – vokaal\, klaver\, elektroonika\nMihkel Mälgand – kontrabass\, basskitarr \nKontsertõhtu toimub üritustesarja Antsla Acoustic raames\, mis pakub akustilise muusika elamusi aastaringselt.
URL:https://antslakultuur.ee/event/hauka-laada-kontserdid-kadri-voorand-anett/
LOCATION:Antsla Augulava\, Tamme\, Antsla\, Võrumaa
CATEGORIES:antsla acoustic
ATTACH;FMTTYPE=image/jpeg:https://antslakultuur.ee/wp-content/uploads/2023/05/c66aaf07452d1125fa5ca34051f86aa2.jpg
ORGANIZER;CN="Hauka Laat MT%C3%9C":MAILTO:info@haukalaat.ee
END:VEVENT
BEGIN:VEVENT
DTSTART;TZID=Europe/Helsinki:20230813T130000
DTEND;TZID=Europe/Helsinki:20230813T160000
DTSTAMP:20260422T090316
CREATED:20230809T103431Z
LAST-MODIFIED:20230809T103431Z
UID:1332-1691931600-1691942400@antslakultuur.ee
SUMMARY:LoovBuss Uue-Antslas
DESCRIPTION:LoovBuss on üks kunstitarbeid ja põnevaid harjutusi täis buss\, mis veereb sel suvel mööda Kagu-Eesti maapiirkondi ja viib seal läbi vaimset heaolu toetavaid loovtöötube. \nSee on viie Eesti noore algatatud kohalik solidaarsusprojekt\, mida rahastab Euroopa Komisjon\, seega töötoad on osalistele tasuta ning kõik kulud katab projektirahastus. \nAastate jooksul on mitmed grupiliikmed viinud läbi erinevaid töötube\, mille käigus märkasime\, et paljudel täiskasvanutel on hirm loovharjutuste ees ning et igasugune kunstiloomine jääb neile võõraks ja kaugeks\, kuna nad ei näe endal olevat piisavat kunstiannet. Soovime seda paradigmat muuta ja usume\, et rõhk võiks olla eelkõige loomise protsessil ja mitte tulemusel\, mis võtab maha pinge osata asju teatud viisil teha. LoovBussiga loome töötoad\, mis võimaldaksid inimestel turvalises ruumis julgelt katsetada\, murda tasapisi barjääri loovtegevuste ees ning lihtsalt protsessi nautida. \nLoovbussi töötoad koosnevad erinevatest lihtsatest\, kuid põnevatest harjutustest\, mis aitavad avada osaleja loovust\, keskenduda protsessile ning läbi loovtegevuste uudistada veidi ka oma sisemaailma. Kasutatakse vesivärve\, savi ning erinevaid looduslikke vahendeid. \nTöötoa kestvus on kokku umbes 2\,5-3 tundi ning mahutab umbes 15 osalejat
URL:https://antslakultuur.ee/event/loovbuss-uue-antslas/
LOCATION:Uue-Antsla Rahvamaja\, Uue-Antsla\, Antsla vald\, Võrumaa\, Eesti
CATEGORIES:koolitus
ATTACH;FMTTYPE=image/jpeg:https://antslakultuur.ee/wp-content/uploads/2023/08/loovbuss.jpg
END:VEVENT
BEGIN:VEVENT
DTSTART;TZID=Europe/Helsinki:20230818T200000
DTEND;TZID=Europe/Helsinki:20230818T220000
DTSTAMP:20260422T090316
CREATED:20230615T151626Z
LAST-MODIFIED:20230615T151626Z
UID:1315-1692388800-1692396000@antslakultuur.ee
SUMMARY:Antsla Acoustic. ALEN VEZIKO akustiline suvekontsert
DESCRIPTION:Maalilise Uhtjärve kaldal kaunis akustiline suvekontsert\, esineb ALEN VEZIKO. \nKontserdipaik avatud ja KULTUURIKOHVIK ootab üks tund enne algust ehk kell 19.00! \nTäispilet 16 eurot\, sooduspilet pensionäridele ja kuni 18-aastastele õpilastele 12 eurot müügil FIENTA.COM\nhttps://fienta.com/…/alen-veziko-suvekontsert-arata…\nKohapeal pilet 20 eurot (sooduspiletit ei ole). \nKuni 8. aastastele sissepääs tasuta. \nLisainfo Uue-Antsla Rahvamaja\, tel 56686466\nVäga halbade ilmaolude puhul võib kontsert toimuda siseruumides. \nJooksev info FB Uue-Antsla Rahvamaja ja antslakultuur.ee.
URL:https://antslakultuur.ee/event/antsla-acoustic-alen-veziko-akustiline-suvekontsert/
LOCATION:Uhtjärve laululava
CATEGORIES:antsla acoustic
ATTACH;FMTTYPE=image/jpeg:https://antslakultuur.ee/wp-content/uploads/2023/06/Alen-vesiko.jpg
END:VEVENT
BEGIN:VEVENT
DTSTART;TZID=Europe/Helsinki:20230822T093000
DTEND;TZID=Europe/Helsinki:20230822T113000
DTSTAMP:20260422T090316
CREATED:20230809T101711Z
LAST-MODIFIED:20230809T101711Z
UID:1329-1692696600-1692703800@antslakultuur.ee
SUMMARY:Doonoripäev
DESCRIPTION:
URL:https://antslakultuur.ee/event/doonoripaev/
LOCATION:Antsla Kultuurikeskus\, Kooli tee 19\, Antsla\, Võrumaa\, 66403\, Eesti
CATEGORIES:Muu
ATTACH;FMTTYPE=image/png:https://antslakultuur.ee/wp-content/uploads/2023/08/antsladoonor.png
END:VEVENT
BEGIN:VEVENT
DTSTART;TZID=Europe/Helsinki:20230826T200000
DTEND;TZID=Europe/Helsinki:20230826T233000
DTSTAMP:20260422T090316
CREATED:20230815T092241Z
LAST-MODIFIED:20230815T092241Z
UID:1342-1693080000-1693092600@antslakultuur.ee
SUMMARY:Suvelõpu simman ansambliga Parvepoisid
DESCRIPTION:
URL:https://antslakultuur.ee/event/suvelopu-simman-ansambliga-parvepoisid/
LOCATION:Tsooru Rahvamaja\, Tsooru\, Antsla vald\, Võrumaa\, Eesti
CATEGORIES:Tantsuõhtu
ATTACH;FMTTYPE=image/jpeg:https://antslakultuur.ee/wp-content/uploads/2023/08/Suvelopu-simman-Tsooru-2023.jpg
END:VEVENT
BEGIN:VEVENT
DTSTART;TZID=Europe/Helsinki:20230827T110000
DTEND;TZID=Europe/Helsinki:20230827T133000
DTSTAMP:20260422T090316
CREATED:20230809T104004Z
LAST-MODIFIED:20230809T104004Z
UID:1335-1693134000-1693143000@antslakultuur.ee
SUMMARY:Suvelõpu teatritrall
DESCRIPTION:27. augustil kell 11.00 ootame peresid vahvale teatri ja pannkoogi hommikule – külla tuleb teatribuss\, enne etendust saab koos näitlejatega meisterdada ja peale etendust pakume kõigile pannkooke!
URL:https://antslakultuur.ee/event/suvelopu-teatritrall/
LOCATION:Uue-Antsla Rahvamaja\, Uue-Antsla\, Antsla vald\, Võrumaa\, Eesti
CATEGORIES:Teater
ATTACH;FMTTYPE=application/pdf:https://antslakultuur.ee/wp-content/uploads/2023/08/Tahtsad-asjad-27-08-23_A3.pdf
END:VEVENT
END:VCALENDAR