BEGIN:VCALENDAR
VERSION:2.0
PRODID:-//Antsla Valla Kultuurikeskus - ECPv6.3.1//NONSGML v1.0//EN
CALSCALE:GREGORIAN
METHOD:PUBLISH
X-ORIGINAL-URL:https://antslakultuur.ee
X-WR-CALDESC:Events for Antsla Valla Kultuurikeskus
REFRESH-INTERVAL;VALUE=DURATION:PT1H
X-Robots-Tag:noindex
X-PUBLISHED-TTL:PT1H
BEGIN:VTIMEZONE
TZID:Europe/Helsinki
BEGIN:DAYLIGHT
TZOFFSETFROM:+0200
TZOFFSETTO:+0300
TZNAME:EEST
DTSTART:20230326T010000
END:DAYLIGHT
BEGIN:STANDARD
TZOFFSETFROM:+0300
TZOFFSETTO:+0200
TZNAME:EET
DTSTART:20231029T010000
END:STANDARD
END:VTIMEZONE
BEGIN:VEVENT
DTSTART;TZID=Europe/Helsinki:20231001T140000
DTEND;TZID=Europe/Helsinki:20231001T160000
DTSTAMP:20260422T053641
CREATED:20230901T110445Z
LAST-MODIFIED:20230901T110445Z
UID:1369-1696168800-1696176000@antslakultuur.ee
SUMMARY:Tsooru mälumängur 2023-2024
DESCRIPTION:
URL:https://antslakultuur.ee/event/tsooru-malumangur-2023-2024/
LOCATION:Tsooru Rahvamaja\, Tsooru\, Antsla vald\, Võrumaa\, Eesti
CATEGORIES:Mälumäng
ATTACH;FMTTYPE=image/jpeg:https://antslakultuur.ee/wp-content/uploads/2023/09/TsooruMALUMANGUR-2023.jpg
END:VEVENT
BEGIN:VEVENT
DTSTART;TZID=Europe/Helsinki:20231006T193000
DTEND;TZID=Europe/Helsinki:20231006T220000
DTSTAMP:20260422T053641
CREATED:20230901T212120Z
LAST-MODIFIED:20230906T134043Z
UID:1376-1696620600-1696629600@antslakultuur.ee
SUMMARY:Antsla Acoustic - Laura Põldvere
DESCRIPTION:Antsla Acoustic on Antsla Kultuurikeskuses toimuv üritustesari\, kus akustilise kavaga esinevad tuntud ning vähemtuntud Eesti artistid. \nLaura on edukalt figureerinud muusikamaailmas nii jazz-\, eksperimentaal- kui popartistina. Viimasena lausa niivõrd edukalt\, et temast on saanud möödunud aastakümne enimmängitud artist Eestimaa raadiojaamades. Laura on välja andnud 10 albumit\, võitnud Eesti Muusikaauhindade naisartisti tiitli ning esindanud Eestit Eurovisioonil 2 korda. \nAkustiline kontsert-õhtu viib ilusale muusikalisele rännakule läbi tuntud lugude ning toob maagiat sumedasse sügisõhtusse! Repertuaaris on Laura enda poplood ning coverid tuntud artistidelt nagu Ed Sheeran\, Tina Turner ja Pink. \nLaura Põldvere – looperid\, vokaal\nKusti Lemba – kitarr\, looperid \nPILETID: \n10 eur eelmüügist https://fienta.com/et/antsla-acoustic-laura-poldvere \n15 eur kohapeal \nkuni 12. aastased tasuta \n  \nAVATUD KULTUURIKOHVIK
URL:https://antslakultuur.ee/event/antsla-acoustic-laura-poldvere/
LOCATION:Antsla Kultuurikeskus\, Kooli tee 19\, Antsla\, Võrumaa\, 66403\, Eesti
CATEGORIES:antsla acoustic
ATTACH;FMTTYPE=image/jpeg:https://antslakultuur.ee/wp-content/uploads/2023/09/Acoustic-Laura-Poldvere.jpg
ORGANIZER;CN="Antsla Kultuurikeskus":MAILTO:kultuur@antsla.ee
END:VEVENT
BEGIN:VEVENT
DTSTART;TZID=Europe/Helsinki:20231009T190000
DTEND;TZID=Europe/Helsinki:20231009T200000
DTSTAMP:20260422T053641
CREATED:20230915T123527Z
LAST-MODIFIED:20230916T121709Z
UID:1448-1696878000-1696881600@antslakultuur.ee
SUMMARY:KINO "Vigased pruudid"
DESCRIPTION:Ei tea siin ilmas keegi hullemat juurikat kui üks sajandivahetuse aegne Eesti taluperemees. Ja kui see juhtub veel mulk olema\, siis on asi ikka päris hull. Naisterahva pisarad ja arukas jutt on temale nagu hane selga vesi. Säärane mees on ka Mulgimaalt Läänemaale elama sattunud Mart. Ei kuula ta kedagi ja talitab ikka nii\, nagu tema isa teda omal ajal õpetas. Isegi oma laste eluõnne on Mart ära otsustanud\, nii et tütred Miina ja Leena ainult mulkidest vennapoegadele kõlbavad. Ei aita siin noorikute ohked ega kaebed\, kuigi nende südamed löövad salamisi hoopiski Läänemaa noormeeste Joosepi ja Juhaniga ühes rütmis. Aga kuna armastusel on juba kord imelik jõud\, mis isegi kana mesipuusse lennutab kui tarvis\, ei kavatse noored sellise saatusega leppida. Kus sõnad ja veenmine ei aita\, tuleb appi võtta kavalus. Esialgne lihtne plaan mulkidest väimehi ninapidi vedada muutub sündmuste arenedes üha pöörasemaks\, kuni Joosep ja Juhan leiavad end lõpuks naiseriietes kaugeid kosilasi tõrjumas.\n\nEduard Vilde vigased pruudid ärkavad taaskord ellu\, tõestades ühelt poolt rahvakirjaniku annet kergeks meelelahutuseks\, teisalt aga tuntud klassiku uue aja kuulutust\, milles noorem põlvkond otsustavalt vanemale vastu hakkab ja ise oma eluõnne üle otsustada soovib.\n\nKategooria: Mängufilm | Žanr: Komöödia
URL:https://antslakultuur.ee/event/kino-vigased-pruudid/
LOCATION:Antsla Kultuurikeskus\, Kooli tee 19\, Antsla\, Võrumaa\, 66403\, Eesti
CATEGORIES:Kino
ATTACH;FMTTYPE=image/jpeg:https://antslakultuur.ee/wp-content/uploads/2023/09/vigased-pruudid.jpeg
ORGANIZER;CN="Antsla Kultuurikeskus":MAILTO:kultuur@antsla.ee
END:VEVENT
BEGIN:VEVENT
DTSTART;TZID=Europe/Helsinki:20231010T190000
DTEND;TZID=Europe/Helsinki:20231010T200000
DTSTAMP:20260422T053641
CREATED:20230915T123927Z
LAST-MODIFIED:20230916T121747Z
UID:1451-1696964400-1696968000@antslakultuur.ee
SUMMARY:Tsooru kinoõhtu "Vigased pruudid"
DESCRIPTION:Ei tea siin ilmas keegi hullemat juurikat kui üks sajandivahetuse aegne Eesti taluperemees. Ja kui see juhtub veel mulk olema\, siis on asi ikka päris hull. Naisterahva pisarad ja arukas jutt on temale nagu hane selga vesi. Säärane mees on ka Mulgimaalt Läänemaale elama sattunud Mart. Ei kuula ta kedagi ja talitab ikka nii\, nagu tema isa teda omal ajal õpetas. Isegi oma laste eluõnne on Mart ära otsustanud\, nii et tütred Miina ja Leena ainult mulkidest vennapoegadele kõlbavad. Ei aita siin noorikute ohked ega kaebed\, kuigi nende südamed löövad salamisi hoopiski Läänemaa noormeeste Joosepi ja Juhaniga ühes rütmis. Aga kuna armastusel on juba kord imelik jõud\, mis isegi kana mesipuusse lennutab kui tarvis\, ei kavatse noored sellise saatusega leppida. Kus sõnad ja veenmine ei aita\, tuleb appi võtta kavalus. Esialgne lihtne plaan mulkidest väimehi ninapidi vedada muutub sündmuste arenedes üha pöörasemaks\, kuni Joosep ja Juhan leiavad end lõpuks naiseriietes kaugeid kosilasi tõrjumas.\n\nEduard Vilde vigased pruudid ärkavad taaskord ellu\, tõestades ühelt poolt rahvakirjaniku annet kergeks meelelahutuseks\, teisalt aga tuntud klassiku uue aja kuulutust\, milles noorem põlvkond otsustavalt vanemale vastu hakkab ja ise oma eluõnne üle otsustada soovib.\n\nKategooria: Mängufilm | Žanr: Komöödia
URL:https://antslakultuur.ee/event/tsooru-kinoohtu-vigased-pruudid/
LOCATION:Tsooru Rahvamaja\, Tsooru\, Antsla vald\, Võrumaa\, Eesti
CATEGORIES:Kino
ATTACH;FMTTYPE=image/jpeg:https://antslakultuur.ee/wp-content/uploads/2023/09/vigased-pruudid.jpeg
END:VEVENT
BEGIN:VEVENT
DTSTART;TZID=Europe/Helsinki:20231011T190000
DTEND;TZID=Europe/Helsinki:20231011T210000
DTSTAMP:20260422T053641
CREATED:20230901T232009Z
LAST-MODIFIED:20230904T130209Z
UID:1412-1697050800-1697058000@antslakultuur.ee
SUMMARY:Komöödiateater - ANNE PALUVER ikka veel 27!
DESCRIPTION:Pisuhänd“\, „Tabamata ime“\, „Saateviga“\, „Päikesepoisid“\, „Kes aevastas?“\, „Norman Vallutaja“\, „Meelejahutaja“ – kes ei mäletaks neid legendaarseid saateid ja lavastusi. Anne on mänginud koos Jüri Järveti\, Eino Baskini\, Rein Areni\, Aarne Üksküla\, Jüri Krjukovi\, Urmas Kibuspuu\, Elle Kulli\, Ita Everi\, Helgi Sallo ja paljude teiste korüfeedega. \nSäravamaid hetki tema karjäärist kajastabki Toomas Kalli komöödia\, mille on lavastanud Henrik Normann. Millest mõtleb näitleja enne oma juubelietendust\, keda ta meenutab\, milliseid uskumatuid lugusid jutustab? Igavesti noor Anne Paluver ei tunne end sugugi seitsmekümnesena\, vaid on ikka veel 27! \nSellest vanusepiirist ei ole ta iialgi nõus üle astuma\, jäädes alati hingelt nooreks. Seda\, et nalja saab ka seekord\, on nii elementaarne\, et piinlik oleks seda üle korrata. \nEtendus on kahes vaatuses ja kestab ca 2 tundi koos vaheajaga. \nSOODUSPILET (pensionär\, üliõpilane\, õpilane) 19 EUR \nTÄISPILET 21 EUR \nPILETILEVI: https://www.piletilevi.ee/est/piletid/teater/draama/anne-paluver-ikka-veel-27-402917/  \nPILETIMAAILM: https://www.piletimaailm.com/performances/122857?lang=et_EE \nPILETEID MÜÜGIL KULTUURIKESKUSES!
URL:https://antslakultuur.ee/event/komoodiateater-anne-paluver-ikka-veel-27-2/
LOCATION:Antsla Kultuurikeskus\, Kooli tee 19\, Antsla\, Võrumaa\, 66403\, Eesti
CATEGORIES:Teater
ATTACH;FMTTYPE=image/jpeg:https://antslakultuur.ee/wp-content/uploads/2023/09/Anne-banner-555x800-1.jpeg
ORGANIZER;CN="Antsla Kultuurikeskus":MAILTO:kultuur@antsla.ee
END:VEVENT
BEGIN:VEVENT
DTSTART;TZID=Europe/Helsinki:20231014T190000
DTEND;TZID=Europe/Helsinki:20231014T233000
DTSTAMP:20260422T053641
CREATED:20230919T135731Z
LAST-MODIFIED:20230919T140401Z
UID:1499-1697310000-1697326200@antslakultuur.ee
SUMMARY:Tsooru Rahvamaja 95 ansambliga Starter
DESCRIPTION:Tähistame Tsooru Rahvamaja 95. sünnipäeva. Saab tantsida ja pakume sünnipäevatorti \nPilet 10 eur Fienta.com  https://fienta.com/et/tsooru-rahvamaja-95-ansambliga-starter
URL:https://antslakultuur.ee/event/tsooru-rahvamaja-95-ansambliga-starter/
LOCATION:Tsooru Rahvamaja\, Tsooru\, Antsla vald\, Võrumaa\, Eesti
CATEGORIES:Tantsuõhtu
ATTACH;FMTTYPE=image/jpeg:https://antslakultuur.ee/wp-content/uploads/2023/09/tsooru-rm-95.jpg
END:VEVENT
BEGIN:VEVENT
DTSTART;TZID=Europe/Helsinki:20231017T180000
DTEND;TZID=Europe/Helsinki:20231017T190000
DTSTAMP:20260422T053641
CREATED:20230901T230708Z
LAST-MODIFIED:20230901T230708Z
UID:1405-1697565600-1697569200@antslakultuur.ee
SUMMARY:Mälumäng Vallavillak
DESCRIPTION:
URL:https://antslakultuur.ee/event/malumang-vallavillak/
LOCATION:Antsla Kultuurikeskus\, Kooli tee 19\, Antsla\, Võrumaa\, 66403\, Eesti
CATEGORIES:Mälumäng
ATTACH;FMTTYPE=image/jpeg:https://antslakultuur.ee/wp-content/uploads/2023/09/vallavillak-FB.jpg
ORGANIZER;CN="Antsla Kultuurikeskus":MAILTO:kultuur@antsla.ee
END:VEVENT
BEGIN:VEVENT
DTSTART;TZID=Europe/Helsinki:20231020T190000
DTEND;TZID=Europe/Helsinki:20231021T000000
DTSTAMP:20260422T053641
CREATED:20231010T124901Z
LAST-MODIFIED:20231010T125051Z
UID:1533-1697828400-1697846400@antslakultuur.ee
SUMMARY:TANTSUÕHTU ansambliga Kruiis
DESCRIPTION:Kauaoodatud Uueka tantsuõhtu tuleb 20. oktoobril! \n\nTantsutab ansambel Kruiis koos Ervin Lillepeaga.\n“Ansambli Kruiis repertuaar on väga mahukas ja mitmekülgne. Oleme suutelised peoõhtul valima laule paljude nii tuntud kui ka vähem tuntud laulude seast. Repertuaaris on erinevaid tantsurütme nii nooremale kui vanemale publikule. Oleme täis energiat ja esinemislusti\, milles saate ise veenduda!”\nÕhtut juhib Mai Einama.Avatud kohvik. \nPiletite eelmüük Fientast hinnaga 10 eur: https://fienta.com/et/tantsohtu-ansambliga-kruiis\nKohapeal pilet 15 eur. \nOstes Fientast ühe ostuga piletid kogu oma laudkonnale\, pole telefoni teel eraldi laua broneeringut vaja teha. \nInfo telefonil 56686466 (Kati) või uueantsla@antsla.ee
URL:https://antslakultuur.ee/event/tantsuohtu-ansambliga-kruiis/
LOCATION:Uue-Antsla Rahvamaja\, Uue-Antsla\, Antsla vald\, Võrumaa\, Eesti
ATTACH;FMTTYPE=image/jpeg:https://antslakultuur.ee/wp-content/uploads/2023/10/Tantsuohtu-A3-20-10-23-02.jpg
END:VEVENT
END:VCALENDAR