BEGIN:VCALENDAR
VERSION:2.0
PRODID:-//Antsla Valla Kultuurikeskus - ECPv6.3.1//NONSGML v1.0//EN
CALSCALE:GREGORIAN
METHOD:PUBLISH
X-WR-CALNAME:Antsla Valla Kultuurikeskus
X-ORIGINAL-URL:https://antslakultuur.ee
X-WR-CALDESC:Events for Antsla Valla Kultuurikeskus
REFRESH-INTERVAL;VALUE=DURATION:PT1H
X-Robots-Tag:noindex
X-PUBLISHED-TTL:PT1H
BEGIN:VTIMEZONE
TZID:Europe/Helsinki
BEGIN:DAYLIGHT
TZOFFSETFROM:+0200
TZOFFSETTO:+0300
TZNAME:EEST
DTSTART:20230326T010000
END:DAYLIGHT
BEGIN:STANDARD
TZOFFSETFROM:+0300
TZOFFSETTO:+0200
TZNAME:EET
DTSTART:20231029T010000
END:STANDARD
END:VTIMEZONE
BEGIN:VEVENT
DTSTART;TZID=Europe/Helsinki:20231203T140000
DTEND;TZID=Europe/Helsinki:20231203T160000
DTSTAMP:20260422T023112
CREATED:20230901T225323Z
LAST-MODIFIED:20231023T110811Z
UID:1403-1701612000-1701619200@antslakultuur.ee
SUMMARY:Tsooru mälumängur 2023-2024
DESCRIPTION:
URL:https://antslakultuur.ee/event/tsooru-malumangur-2023-2024-2/
LOCATION:Tsooru Rahvamaja\, Tsooru\, Antsla vald\, Võrumaa\, Eesti
CATEGORIES:Mälumäng
ATTACH;FMTTYPE=image/jpeg:https://antslakultuur.ee/wp-content/uploads/2023/09/TsooruMALUMANGUR-2023.jpg
END:VEVENT
BEGIN:VEVENT
DTSTART;TZID=Europe/Helsinki:20231203T150000
DTEND;TZID=Europe/Helsinki:20231203T183000
DTSTAMP:20260422T023112
CREATED:20231113T102618Z
LAST-MODIFIED:20231113T112428Z
UID:1596-1701615600-1701628200@antslakultuur.ee
SUMMARY:Advendiaja algus
DESCRIPTION:Advendiaja algus Antsla vallas \nAntsla kesklinnas \n15.00 -16.30 – advendilaat \nREGISTREERIMINE laadale kuni 24.11.2023: https://docs.google.com/forms/d/e/1FAIpQLSdPST018IIUCEYpnsRE-cixAy-uTmIWHJdRWdN6T6YgGE8Vpw/viewform \n\nTelk\, laud ja muu müügiks vajalik inventar tuleb müüjal endal kaasa võtta;\nkohatasu 10 eurot\nTäpsem info helen.laidma@antsla.ee\, tel. 5555 1918\n\n15.30 – Advendiaja avamine. Esinevad Antsla koor\, ansambel Küsimärk ja Urvaste Segaansambel \n  \nTsooru keskuses \n17.00 Advendiaja avamine. Esineb tantsuselts Pärliine
URL:https://antslakultuur.ee/event/advendiaja-algus/
LOCATION:Võrumaa
CATEGORIES:Jõulud
ATTACH;FMTTYPE=image/jpeg:https://antslakultuur.ee/wp-content/uploads/2023/11/Advendiaja-algus1.jpg
END:VEVENT
BEGIN:VEVENT
DTSTART;TZID=Europe/Helsinki:20231204T170000
DTEND;TZID=Europe/Helsinki:20231204T183000
DTSTAMP:20260422T023112
CREATED:20230927T115632Z
LAST-MODIFIED:20231114T102038Z
UID:1522-1701709200-1701714600@antslakultuur.ee
SUMMARY:VÕRU KEELE KÕNÕLÕMISÕ TSÕÕR
DESCRIPTION:Võru keele vestlusringi viimane kohtumine. \nKohtumised toimuvad esmaspäeviti \n6. november; 13. november; 20. november; 27. november ja 4.detsember Antsla kultuurimajas. \n  \nVestlusringi juhendab Mariko Faster\, tel 56213177
URL:https://antslakultuur.ee/event/voru-keele-konolomiso-tsoor-4/
LOCATION:Antsla Kultuurikeskus\, Kooli tee 19\, Antsla\, Võrumaa\, 66403\, Eesti
CATEGORIES:Vestlus
ATTACH;FMTTYPE=image/jpeg:https://antslakultuur.ee/wp-content/uploads/2023/09/VORU-KEELE-VESTLUSRING-1.jpg
END:VEVENT
BEGIN:VEVENT
DTSTART;TZID=Europe/Helsinki:20231204T190000
DTEND;TZID=Europe/Helsinki:20231204T200000
DTSTAMP:20260422T023112
CREATED:20231113T125618Z
LAST-MODIFIED:20231113T125618Z
UID:1602-1701716400-1701720000@antslakultuur.ee
SUMMARY:Kino "Pitka legend"
DESCRIPTION:Esimese Eesti admirali ja tema ajastu lugu \nJohan Pitka oli mees\, kes on kompromissitu kindlusega seisnud Eesti saatuse pöördeliste sündmuste juures\, olgu selleks Kaitseliidu ellu kutsumine\, soomusrongid Vabadussõjas või paljud teised olulised\, ent haprad hetked\, mis on nõudnud just Pitkale omast pöörast julgust. Sellised hetked ei jää vaid minevikku\, ajalugu vajab sellist otsusekindlust ka täna ja edaspidi… Eesti ajaloo ühe põnevaima suurkuju elu oli sama kirev ja pöörane\, nagu mehe iseloomgi. Seda huvitavam on meie kõigi lugu\, Eesti lugu läbi tema tegelaskuju rääkida. „Pitka legend“ äratab tippnäitlejatega lavastuslike stseenide\, animatsiooni ja dokumentaalkaadrite kaudu ellu loo esimesest Eesti admiralist\, tema ajastust\, võitlustest ja unistustest. \nStsenaarium: Loone Ots\, Rein Pakk\nRezhissöör: Ain Mäeots\nOperaator: Mait Mäekivi\nKunstnik: Killu Mägi\nMontaazh: Risto Pillesson\nanimatsioon: Elise Christine Jörberg\nHelilooja: Ardo Ran Varres\nOsades Karol Kuntsel\, Maria Annus\, Indrek Taalmaa\, Ronald Mäeots\, Mait Malmsten\, jt.\nProdutsent: Ain Mäeots
URL:https://antslakultuur.ee/event/kino-pitka-legend/
LOCATION:Antsla Kultuurikeskus\, Kooli tee 19\, Antsla\, Võrumaa\, 66403\, Eesti
CATEGORIES:Kino
ATTACH;FMTTYPE=image/jpeg:https://antslakultuur.ee/wp-content/uploads/2023/11/pitka-legend4.dets-19.00.jpg
ORGANIZER;CN="Antsla Kultuurikeskus":MAILTO:kultuur@antsla.ee
END:VEVENT
BEGIN:VEVENT
DTSTART;TZID=Europe/Helsinki:20231207T180000
DTEND;TZID=Europe/Helsinki:20231207T200000
DTSTAMP:20260422T023112
CREATED:20231019T125035Z
LAST-MODIFIED:20231019T125035Z
UID:1559-1701972000-1701979200@antslakultuur.ee
SUMMARY:Aianduskoolitused Kristiina Kikkasega – II koolitus
DESCRIPTION:Aiandushuvilistele tuleb taas koolitust tegema Kristiina Kikkas! \nKursusel võimalik saada koolitusmaterjalid paberkandjal\, soovi korral ka meili peale \nOsalustasu 12 eur/kord \n  \nINFO ja REGISTREERIMINE: \nkultuur@antsla.ee \n55648348 \n  \nKoolitus toimub üks kord kuus perioodil november 2023 – aprill 2024 \nTeemad: \nNeljapäev\, 7. detsember 2023 – Aiaruumideeraldamine (räägime: Mis on aia ruumid? Miks neid on vaja? Kuidas luua mõtteline või füüsiline eraldus?Mis võimalused selleks on?) Vertikaalhaljastus: sõrestikud\, elavkaared\, spaleerpuud. \nNeljapäev\, 11. jaanuar 2024 – Teed\, nende funktsionaalsus\, rajamine\, materjalid. Aia valgustamine (räägime: Miks valgustada? Mida valgustada? Millega valgustada?) \nNeljapäev\, 8.veebruar 2024 – Taimede sobivus aeda \,arvestades mulla-ja valgustingimusi. Sibulilled- nende kasvutingimused\, sobivus\, hooldus. \nNeljapäev\, 7.märts 2024 – Veesilma rajamine (Kuhu? Kui suur? Milleks? Milline? Millest?)\, ümbruse kujundamine ja sobilikud taimed\, hooldamine. \nNeljapäev\, 11. aprill 2024 – Varjuaed (Mis see on?)\, rajamine\, taimed\, hooldus .Aiatööriistad. Mida eelistada? Õiged töövõtted. \n  \nKes on Kristiina Kikkas? \nOlles paarkümmend aastat hobiaednik ja omandanud praktilisi kogemusi\, viis soov aiandusest rohkem teada ning kõike teadlikumalt ja lihtsamalt teha\, õppima Räpina Aianduskooli\, kus omandasin maastikuehitaja eriala ja Hiiumaa Ametikooli linnaaedniku erialale. Mul on 4. tase aianduses. \nOlen oma ettevõtte Kristiina Iluaed OÜ asutaja\, mis peamiselt tegeleb aiaprojektide koostamisega ja aiandusalase nõustamisega.
URL:https://antslakultuur.ee/event/aianduskoolitused-kristiina-kikkasega-ii-koolitus/
LOCATION:Antsla Kultuurikeskus\, Kooli tee 19\, Antsla\, Võrumaa\, 66403\, Eesti
CATEGORIES:koolitus
ATTACH;FMTTYPE=image/jpeg:https://antslakultuur.ee/wp-content/uploads/2023/10/AIANDUSKOOLITUSED-KRISTIINA-KIKKASEGA-7.12.2023-fbtv.jpg
ORGANIZER;CN="Antsla Kultuurikeskus":MAILTO:kultuur@antsla.ee
END:VEVENT
BEGIN:VEVENT
DTSTART;TZID=Europe/Helsinki:20231210T120000
DTEND;TZID=Europe/Helsinki:20231210T140000
DTSTAMP:20260422T023112
CREATED:20231114T123111Z
LAST-MODIFIED:20231114T123111Z
UID:1620-1702209600-1702216800@antslakultuur.ee
SUMMARY:Advendilaat
DESCRIPTION:Pühapäeval\, 10. detsembril kell 12 ootame kõiki advendilaadale! \nTule kauplema\, tule ostma\, tule niisama kaema! \nKauplejate registreerimine telefonil 56686466. \nMüügikoha tasu 5 eurot\,\nlastele ja õpilasfirmadele tasuta
URL:https://antslakultuur.ee/event/advendilaat/
LOCATION:Uue-Antsla Rahvamaja\, Uue-Antsla\, Antsla vald\, Võrumaa\, Eesti
ATTACH;FMTTYPE=image/jpeg:https://antslakultuur.ee/wp-content/uploads/2023/11/Advendilaat-10-12-23-01-scaled.jpg
END:VEVENT
BEGIN:VEVENT
DTSTART;TZID=Europe/Helsinki:20231212T180000
DTEND;TZID=Europe/Helsinki:20231212T190000
DTSTAMP:20260422T023112
CREATED:20230901T231308Z
LAST-MODIFIED:20230901T231308Z
UID:1410-1702404000-1702407600@antslakultuur.ee
SUMMARY:Mälumäng Vallavillak
DESCRIPTION:
URL:https://antslakultuur.ee/event/malumang-vallavillak-3/
LOCATION:Antsla Kultuurikeskus\, Kooli tee 19\, Antsla\, Võrumaa\, 66403\, Eesti
CATEGORIES:Vallavillak
ATTACH;FMTTYPE=image/jpeg:https://antslakultuur.ee/wp-content/uploads/2023/09/vallavillak-FB.jpg
ORGANIZER;CN="Antsla Kultuurikeskus":MAILTO:kultuur@antsla.ee
END:VEVENT
BEGIN:VEVENT
DTSTART;TZID=Europe/Helsinki:20231214T130000
DTEND;TZID=Europe/Helsinki:20231214T170000
DTSTAMP:20260422T023112
CREATED:20231108T131126Z
LAST-MODIFIED:20231108T131618Z
UID:1581-1702558800-1702573200@antslakultuur.ee
SUMMARY:Antsla valla eakate jõulupidu
DESCRIPTION:Registreerimine ja transpordi vajadus kuni 07.12.2023: Krista Puija\, telefon 58534682 või kristapui@gmail.com
URL:https://antslakultuur.ee/event/antsla-valla-eakate-joulupidu-2/
LOCATION:Linda Rahvamaja\, Kesk 9\, Kobela\, Eesti
CATEGORIES:Jõulud
ATTACH;FMTTYPE=image/jpeg:https://antslakultuur.ee/wp-content/uploads/2023/11/eakate-joulupidu-2023.jpg
END:VEVENT
BEGIN:VEVENT
DTSTART;TZID=Europe/Helsinki:20231214T173000
DTEND;TZID=Europe/Helsinki:20231214T173000
DTSTAMP:20260422T023112
CREATED:20231206T105947Z
LAST-MODIFIED:20231206T105947Z
UID:1675-1702575000-1702575000@antslakultuur.ee
SUMMARY:Antsla Muusikakooli jõulukontsert
DESCRIPTION:Esinevad muusikakooli õpilased ja õpetajad
URL:https://antslakultuur.ee/event/antsla-muusikakooli-joulukontsert-2/
LOCATION:Antsla Kultuurikeskus\, Kooli tee 19\, Antsla\, Võrumaa\, 66403\, Eesti
CATEGORIES:Muusikakool
ATTACH;FMTTYPE=image/jpeg:https://antslakultuur.ee/wp-content/uploads/2023/12/MK-Joulukontsert-2023.jpg
END:VEVENT
BEGIN:VEVENT
DTSTART;TZID=Europe/Helsinki:20231215T190000
DTEND;TZID=Europe/Helsinki:20231215T190000
DTSTAMP:20260422T023112
CREATED:20231115T143330Z
LAST-MODIFIED:20231115T143330Z
UID:1630-1702666800-1702666800@antslakultuur.ee
SUMMARY:Antsla valla jõulupidu 2023
DESCRIPTION:Antsla valla jõulupidu 2023 toimub reedel\, 15.detsembril algusega kell 19.00 Linda rahvamajas.\nEsinevad Antsla valla huviringid. Tantsutab ansambel LAINE. \nAvatud baar. \nLaudade broneerimine pileti omanikele kultuur@antsla.ee \nPilet 10 eur \nMüügil Fientas ja kohapeal. \nhttps://fienta.com/et/antsla-valla-joulupidu
URL:https://antslakultuur.ee/event/antsla-valla-joulupidu-2023/
LOCATION:Linda Rahvamaja\, Kesk 9\, Kobela\, Eesti
CATEGORIES:Jõulud
ATTACH;FMTTYPE=image/jpeg:https://antslakultuur.ee/wp-content/uploads/2023/11/Joulupidu-2023.jpg
END:VEVENT
BEGIN:VEVENT
DTSTART;TZID=Europe/Helsinki:20231229T200000
DTEND;TZID=Europe/Helsinki:20231230T000000
DTSTAMP:20260422T023112
CREATED:20231114T122314Z
LAST-MODIFIED:20231114T122720Z
UID:1614-1703880000-1703894400@antslakultuur.ee
SUMMARY:Aastalõpupidu ansambliga PS TROIKA
DESCRIPTION:Ootame teid hoogsale ja meeleolukale aastalõpupeole! \nOma parimaid lugusid mängib ansambel PS TROIKA. \nTuju hoiab üleval särav õhtujuht Kristi Vals. \nAvatud kohvik. \n  \nOsta pilet eelmüügist hinnaga 15 eurot: https://fienta.com/et/aastalopupidu-ansambliga-ps-troika \nPilet kohapeal 20 eurot. \n  \nInfo tel 56686466
URL:https://antslakultuur.ee/event/aastalopupidu-ansambliga-ps-troika/
LOCATION:Uue-Antsla Rahvamaja\, Uue-Antsla\, Antsla vald\, Võrumaa\, Eesti
ATTACH;FMTTYPE=image/jpeg:https://antslakultuur.ee/wp-content/uploads/2023/11/Aastalopupidu4_PS-Troika.jpg
END:VEVENT
BEGIN:VEVENT
DTSTART;TZID=Europe/Helsinki:20231230T200000
DTEND;TZID=Europe/Helsinki:20231230T200000
DTSTAMP:20260422T023112
CREATED:20231206T095357Z
LAST-MODIFIED:20231206T095751Z
UID:1669-1703966400-1703966400@antslakultuur.ee
SUMMARY:Tsooru aastalõpupidu ansambliga K.T.K.
DESCRIPTION:Tsooru aastalõpupidu rahvamajas. Avatatud Kultuurikohvik. Laudade broneerimine Krista 58534682 \nPilet soodsamalt kuni 29.dets Fienta https://fienta.com/et/tsooru-aastalopupidu-ansambliga-k-t-k
URL:https://antslakultuur.ee/event/tsooru-aastalopupidu-ansambliga-k-t-k/
LOCATION:Tsooru Rahvamaja\, Tsooru\, Antsla vald\, Võrumaa\, Eesti
CATEGORIES:Tantsuõhtu
ATTACH;FMTTYPE=image/jpeg:https://antslakultuur.ee/wp-content/uploads/2023/12/tsooru-aastalopu-pidu.jpg
END:VEVENT
END:VCALENDAR