BEGIN:VCALENDAR
VERSION:2.0
PRODID:-//Antsla Valla Kultuurikeskus - ECPv6.3.1//NONSGML v1.0//EN
CALSCALE:GREGORIAN
METHOD:PUBLISH
X-ORIGINAL-URL:https://antslakultuur.ee
X-WR-CALDESC:Events for Antsla Valla Kultuurikeskus
REFRESH-INTERVAL;VALUE=DURATION:PT1H
X-Robots-Tag:noindex
X-PUBLISHED-TTL:PT1H
BEGIN:VTIMEZONE
TZID:Europe/Helsinki
BEGIN:DAYLIGHT
TZOFFSETFROM:+0200
TZOFFSETTO:+0300
TZNAME:EEST
DTSTART:20250330T010000
END:DAYLIGHT
BEGIN:STANDARD
TZOFFSETFROM:+0300
TZOFFSETTO:+0200
TZNAME:EET
DTSTART:20251026T010000
END:STANDARD
END:VTIMEZONE
BEGIN:VEVENT
DTSTART;TZID=Europe/Helsinki:20250901T173000
DTEND;TZID=Europe/Helsinki:20250901T183000
DTSTAMP:20260419T193553
CREATED:20250812T093853Z
LAST-MODIFIED:20250812T093853Z
UID:2483-1756747800-1756751400@antslakultuur.ee
SUMMARY:Tarkusepäeva jooks
DESCRIPTION:Lepistu koolimaja – Tsooru rahvamaja \nStardime Lepistu koolimaja eest kell 17.30\nTule jookse või kõnni!
URL:https://antslakultuur.ee/event/tarkusepaeva-jooks/
LOCATION:Tsooru Rahvamaja\, Tsooru\, Antsla vald\, Võrumaa\, Eesti
CATEGORIES:Muu
ATTACH;FMTTYPE=image/jpeg:https://antslakultuur.ee/wp-content/uploads/2025/08/Tarkusepaeva-jooks-2025.jpg
END:VEVENT
BEGIN:VEVENT
DTSTART;TZID=Europe/Helsinki:20250913T140000
DTEND;TZID=Europe/Helsinki:20250913T140000
DTSTAMP:20260419T193553
CREATED:20250905T084941Z
LAST-MODIFIED:20250905T084941Z
UID:2589-1757772000-1757772000@antslakultuur.ee
SUMMARY:PLMF VANAVANEMATE PÄEVA KONTSERT
DESCRIPTION:Grete Oolberg töötab alates 2019. aastast Vanemuise ooperikooris. Ta on lõpetanud 2018. aastal Eesti Muusikaakadeemia magistrantuuri Eva Märtson-Wilsoni lauluklassis. Oolberg osales juba õpingute ajal mitmetes ooperi- ja kontsertprojektides\, astudes üles nii Eestis kui ka välismaal. Soolodebüüdi tegi ta 2017. aastal Tambergi ooperis „Cyrano de Bergerac”.\nKasper Joel Nõgene on noor ja andekas dirigent\, kes on juba varakult näidanud erakordset muusikalist annet. Ta alustas dirigeerimist 9-aastaselt ja on juhatanud mitmeid orkestreid. Kasper Joel on osalenud Järvi Akadeemias\, kus ta oli noorim väljavalitu\, olles vaid 15-aastane. Tema vanaisa\, Vanemuise endine muusikajuht Endel Nõgene\, samuti tunnustatud dirigent ja muusikaakadeemia õppejõud\, on olnud Kasper Joeli suurimaks inspiratsiooniks.\nÜritus on Tasuta. Kaetud on kohvilaud.
URL:https://antslakultuur.ee/event/plmf-vanavanemate-paeva-kontsert/
LOCATION:Uue-Antsla Rahvamaja\, Uue-Antsla\, Antsla vald\, Võrumaa\, Eesti
ATTACH;FMTTYPE=image/jpeg:https://antslakultuur.ee/wp-content/uploads/2025/09/13.09-UUE-ANTSLA-PLAKAT-.jpg
END:VEVENT
BEGIN:VEVENT
DTSTART;TZID=Europe/Helsinki:20250914T150000
DTEND;TZID=Europe/Helsinki:20250914T170000
DTSTAMP:20260419T193553
CREATED:20250818T100606Z
LAST-MODIFIED:20250818T100606Z
UID:2491-1757862000-1757869200@antslakultuur.ee
SUMMARY:Vabariikliku orkestrijuhtide puhkpilliorkestri juubelihooaja kontsert number 3
DESCRIPTION:tasuta \nSolist: Jaan Willem Sibul \nKaasategevad: Antsla Puhkpilliorkester\, Puhkpilliorkester Kungla \nDirigeerivad: Joop Boerstoel (Holland)\, Bert Langerer\, Ott Kask\, Karl Arro\, Jaan Tamm
URL:https://antslakultuur.ee/event/vabariikliku-orkestrijuhtide-puhkpilliorkestri-juubelihooaja-kontsert-number-3/
LOCATION:Linda Rahvamaja\, Kesk 9\, Kobela\, Eesti
CATEGORIES:Kontsert
ATTACH;FMTTYPE=image/png:https://antslakultuur.ee/wp-content/uploads/2025/08/250816_VOP-antslas_PLAKAT-scaled.png
END:VEVENT
END:VCALENDAR