BEGIN:VCALENDAR
VERSION:2.0
PRODID:-//Antsla Valla Kultuurikeskus - ECPv6.3.1//NONSGML v1.0//EN
CALSCALE:GREGORIAN
METHOD:PUBLISH
X-ORIGINAL-URL:https://antslakultuur.ee
X-WR-CALDESC:Events for Antsla Valla Kultuurikeskus
REFRESH-INTERVAL;VALUE=DURATION:PT1H
X-Robots-Tag:noindex
X-PUBLISHED-TTL:PT1H
BEGIN:VTIMEZONE
TZID:Europe/Helsinki
BEGIN:DAYLIGHT
TZOFFSETFROM:+0200
TZOFFSETTO:+0300
TZNAME:EEST
DTSTART:20250330T010000
END:DAYLIGHT
BEGIN:STANDARD
TZOFFSETFROM:+0300
TZOFFSETTO:+0200
TZNAME:EET
DTSTART:20251026T010000
END:STANDARD
END:VTIMEZONE
BEGIN:VEVENT
DTSTART;TZID=Europe/Helsinki:20251102T140000
DTEND;TZID=Europe/Helsinki:20251102T170000
DTSTAMP:20260421T112444
CREATED:20250915T101743Z
LAST-MODIFIED:20250915T101743Z
UID:2599-1762092000-1762102800@antslakultuur.ee
SUMMARY:Tsooru mälumängur 2025-2026
DESCRIPTION:
URL:https://antslakultuur.ee/event/tsooru-malumangur-2025-2026-2/
LOCATION:Tsooru Rahvamaja\, Tsooru\, Antsla vald\, Võrumaa\, Eesti
CATEGORIES:Mälumäng
ATTACH;FMTTYPE=image/jpeg:https://antslakultuur.ee/wp-content/uploads/2025/09/TsooruMALUMANGUR-2025-2026.jpg
END:VEVENT
BEGIN:VEVENT
DTSTART;TZID=Europe/Helsinki:20251106T180000
DTEND;TZID=Europe/Helsinki:20251106T193000
DTSTAMP:20260421T112444
CREATED:20251027T114124Z
LAST-MODIFIED:20251027T114124Z
UID:2686-1762452000-1762457400@antslakultuur.ee
SUMMARY:Kogukonnakoosolek Linda rahvamajas
DESCRIPTION:Kohtume sõbralikult kohvitass näpus ja jagame muresid ning rõõme seoses Linda rahvamajaga. Anname ülevaate uue hooaja plaanidest Linda rahvamajas. Arutame kogukonna ootuseid seoses rahvamajaga ning mõtleme üheskoos\, milliseid sündmusi ja ringe saame kohalikele veel pakkuda.  \nKohtumiseni Linda Rahvamajas!
URL:https://antslakultuur.ee/event/kogukonnakoosolek-linda-rahvamajas/
LOCATION:Linda Rahvamaja\, Kesk 9\, Kobela\, Eesti
CATEGORIES:Muu
ATTACH;FMTTYPE=image/png:https://antslakultuur.ee/wp-content/uploads/2025/10/5D3332D1-51E0-42DD-BD4D-BA6D916ABAC6.png
END:VEVENT
BEGIN:VEVENT
DTSTART;TZID=Europe/Helsinki:20251107T200000
DTEND;TZID=Europe/Helsinki:20251107T200000
DTSTAMP:20260421T112444
CREATED:20250923T104617Z
LAST-MODIFIED:20250924T084129Z
UID:2642-1762545600-1762545600@antslakultuur.ee
SUMMARY:Suur rokiõhtu: WingWave/Kantri Guidu Bänd/Red Hot Chili Peppers tribute
DESCRIPTION:pilet eelmüügis 12 eur\, kohapeal  15 eur\nhttps://fienta.com/et/suur-rokiohtu-wingwave-kantri-guidu-band-red-hot-chili-peppers-tribute \nAntsla Kultuurikeskuse suur saal muutub 7. novembri õhtul tõeliseks rokiklubiks\, kus üksteise järel astuvad üles kolm omanäolist ja tunnustatud artisti.\nÕhtu avab ansambel WingWave\, kes enda kohta ütleb nii:\nWingWave on Eesti alternatiiv-rock grupp. Nende looming kombineerib elemente erinevatest žanritest\, fungist rockini ja popist trip-hopini. 2025.a andis WingWave välja oma debüütalbumi Energy Release. Album on valitud Raadio 2 nädala albumiks. \nSeejärel vallutab lavalauad äsja värkse plaadi üllitanud Kantri Guidu Bänd (KGB)\, kelle humoorikad ja meeldejäävad laulud\, karismaatiline frontman ning lavašõu ei jäta kedagi külmaks. \nÕhtu lõpp on aga tõeline maiuspala\, kui ansambel WingWave muutub legendaarseks USA rokkbändiks Red Hot Chili Peppersiks ning esitab nende tuntud hitte alates “Under the bridge’ist” lõpetades “By the way” ja “Californicationiga”. WingWave esitab tribuut kava Red Hot Chili Peppersi tuntud hittidest\, aga kavas on ka mõned maiuspalad bandi algusaegade muusika fännidele. \nUksed: kl 19.30\nWingwave: kl 20.00\nKantri Guidu bänd: kl 21.00\nRed Hot Chili Peppers tribute: kl 22.15 \nAvatud kultuurikõrts!
URL:https://antslakultuur.ee/event/suur-rokiohtu-wingwave-kantri-guidu-band-red-hot-chili-peppers-tribute/
LOCATION:Antsla Kultuurikeskus\, Kooli tee 19\, Antsla\, Võrumaa\, 66403\, Eesti
CATEGORIES:Kontsert
ATTACH;FMTTYPE=image/jpeg:https://antslakultuur.ee/wp-content/uploads/2025/09/2025-suur-rokiohtu-WingWaveRedHotKantriGuidu.jpg
ORGANIZER;CN="Antsla Kultuurikeskus":MAILTO:kultuur@antsla.ee
END:VEVENT
BEGIN:VEVENT
DTSTART;TZID=Europe/Helsinki:20251111T180000
DTEND;TZID=Europe/Helsinki:20251111T190000
DTSTAMP:20260421T112444
CREATED:20250828T100905Z
LAST-MODIFIED:20250828T100905Z
UID:2502-1762884000-1762887600@antslakultuur.ee
SUMMARY:Vallavillak 2025-2026 II mäng
DESCRIPTION:Meelelahutuslik mälumäng\, kus saab teadmisi proovile panna erinevatel teemadel. \nOsalustasu 1 eur/osaleja\nKuni 10 võistkonda (max 3 liiget )
URL:https://antslakultuur.ee/event/vallavillak-2025-2026-ii-mang/
LOCATION:Antsla Kultuurikeskus\, Kooli tee 19\, Antsla\, Võrumaa\, 66403\, Eesti
CATEGORIES:Mälumäng
ATTACH;FMTTYPE=image/jpeg:https://antslakultuur.ee/wp-content/uploads/2025/08/VALLAVILLAK-2025-2026.jpg
ORGANIZER;CN="Antsla Kultuurikeskus":MAILTO:kultuur@antsla.ee
END:VEVENT
BEGIN:VEVENT
DTSTART;TZID=Europe/Helsinki:20251114T200000
DTEND;TZID=Europe/Helsinki:20251114T200000
DTSTAMP:20260421T112444
CREATED:20250922T101810Z
LAST-MODIFIED:20250923T121947Z
UID:2627-1763150400-1763150400@antslakultuur.ee
SUMMARY:Tantsuõhtu ansambel Kruiis
DESCRIPTION:Tantsuõhtu ansambel Kruiisiga.\nLaudade broneerimine ja info: Kätlin tel.55901116\nAvatud on kultuurikohvik.\nOma söök ja jook on lubatud!\nPilet 12 eurot\, kohapeal 15eurot.\nOsta pilet eelmüügist ja võida 30euro väärtuses kinkekaart PAKSU POISI PUBIST! \nPiletid – https://fienta.com/et/tantsuohtu-ansambel-kruiis-2
URL:https://antslakultuur.ee/event/tantsuohtu-ansambel-kruiis/
LOCATION:Uue-Antsla Rahvamaja\, Uue-Antsla\, Antsla vald\, Võrumaa\, Eesti
CATEGORIES:Tantsuõhtu
ATTACH;FMTTYPE=image/png:https://antslakultuur.ee/wp-content/uploads/2025/09/Kruiis.png
END:VEVENT
BEGIN:VEVENT
DTSTART;TZID=Europe/Helsinki:20251115T120000
DTEND;TZID=Europe/Helsinki:20251115T170000
DTSTAMP:20260421T112444
CREATED:20251103T150142Z
LAST-MODIFIED:20251103T150142Z
UID:2689-1763208000-1763226000@antslakultuur.ee
SUMMARY:Kipsi valamine
DESCRIPTION:Laupäeval 15.november kell 12:00 Uue-Antsla Rahvamajas kipsi valamine.\n20eurot\, iga järgnev toode 5 eurot.\nJuhendaja: Katri Kurs (fb Kursikum)\nBroneerimiseks kirjuta Postkasti või helista Kätlin tel 55901116\nKestvus 1\,5h-2h.
URL:https://antslakultuur.ee/event/kipsi-valamine-2/
LOCATION:Uue-Antsla Rahvamaja\, Uue-Antsla\, Antsla vald\, Võrumaa\, Eesti
CATEGORIES:Muu
ATTACH;FMTTYPE=image/png:https://antslakultuur.ee/wp-content/uploads/2025/11/KIPSI-VALAMINE.png
END:VEVENT
BEGIN:VEVENT
DTSTART;TZID=Europe/Helsinki:20251115T200000
DTEND;TZID=Europe/Helsinki:20251115T233000
DTSTAMP:20260421T112444
CREATED:20250915T120419Z
LAST-MODIFIED:20251014T081654Z
UID:2604-1763236800-1763249400@antslakultuur.ee
SUMMARY:Tantsuõhtu ansambliga Raen Väikene
DESCRIPTION:Pilet eelmüügist 12 eurot\, kohapeal 15 eur\nFienta tantsuohtu-ansambliga-raen-vaikene\navatud kultuurikohvik
URL:https://antslakultuur.ee/event/tantsuohtu-ansambliga-raen-vaikene/
LOCATION:Tsooru Rahvamaja\, Tsooru\, Antsla vald\, Võrumaa\, Eesti
CATEGORIES:Tantsuõhtu
ATTACH;FMTTYPE=image/jpeg:https://antslakultuur.ee/wp-content/uploads/2025/09/raen-vaikene-tantsuohtu-1.jpg
END:VEVENT
BEGIN:VEVENT
DTSTART;TZID=Europe/Helsinki:20251128T180000
DTEND;TZID=Europe/Helsinki:20251128T193000
DTSTAMP:20260421T112444
CREATED:20251106T122407Z
LAST-MODIFIED:20251106T122407Z
UID:2700-1764352800-1764358200@antslakultuur.ee
SUMMARY:Kino "Kindral"
DESCRIPTION:Pilet 6 eur; sooduspilet 5 eur \n„Kindral” on paljastav dokumentaalfilm mehest\, kes oli Eesti suusatamise fenomenaalse tõusu arhitekt ja šokeeriva allakäigu sümbol. „Kindral“ on portree treener Mati Alaverist\, kes aastakümneid kujundas ainuisikuliselt Eesti suusaspordi edulugu. Ta ehitas kontrollimatult süsteemi\, kus oli ise selle metoodiline\, range ja karismaatiline keskpunkt. See on film rahvuslikust enesepetmisest\, ideaalide purunemisest ja iidolite moraalsest hukust. Aastate möödudes paljastus läbi erinevate skandaalide Eesti suusatamise suur ja halastamatu vale\, mille mõju kontuure on tunda tänaseni. Mati Alaver oli rohkem kui lihtsalt treener\, ta oli KINDRAL. Nagu oli ka ta koodnimi salajases rahvusvahelises dopinguvõrgustikus. „Kindral“ on õppefilm\, kuidas näha ja mõista hukutavaid ambitsioone.
URL:https://antslakultuur.ee/event/kino-kindral/
LOCATION:Antsla Kultuurikeskus\, Kooli tee 19\, Antsla\, Võrumaa\, 66403\, Eesti
CATEGORIES:Kino
ATTACH;FMTTYPE=image/jpeg:https://antslakultuur.ee/wp-content/uploads/2025/11/kino-Kindral.jpg
ORGANIZER;CN="Antsla Kultuurikeskus":MAILTO:kultuur@antsla.ee
END:VEVENT
BEGIN:VEVENT
DTSTART;TZID=Europe/Helsinki:20251129T100000
DTEND;TZID=Europe/Helsinki:20251129T140000
DTSTAMP:20260421T112444
CREATED:20251014T133525Z
LAST-MODIFIED:20251014T133525Z
UID:2682-1764410400-1764424800@antslakultuur.ee
SUMMARY:Jõulukaunistuse töötuba
DESCRIPTION:osalustasu 10 eur/in \nLiis Keerovi juhendamisel saab endale valmistada lauakaunistuse\, mille jaoks võid ka ise materjali kaasa võtta. \nOsalemiseks registreeri: krista.puija@antsla.ee 5853 4682
URL:https://antslakultuur.ee/event/joulukaunistuse-tootuba/
LOCATION:Tsooru Rahvamaja\, Tsooru\, Antsla vald\, Võrumaa\, Eesti
CATEGORIES:Jõulud
ATTACH;FMTTYPE=image/jpeg:https://antslakultuur.ee/wp-content/uploads/2025/10/liisi-joulukaunistuse-tootuba.jpg
END:VEVENT
BEGIN:VEVENT
DTSTART;TZID=Europe/Helsinki:20251130T150000
DTEND;TZID=Europe/Helsinki:20251130T163000
DTSTAMP:20260421T112444
CREATED:20251117T143716Z
LAST-MODIFIED:20251117T143716Z
UID:2714-1764514800-1764520200@antslakultuur.ee
SUMMARY:Advendiaja algus Antsla kesklinnas
DESCRIPTION:15:00 – 16:30 Advendilaat\n15:00 jõulupakid kodustele lastele\n15:30 advendialguse avamine
URL:https://antslakultuur.ee/event/advendiaja-algus-antsla-kesklinnas-2/
LOCATION:Antsla kesklinn\, Veski\, Antsla\, Võrumaa\, 66403\, Eesti
CATEGORIES:Jõulud,Laat
ATTACH;FMTTYPE=image/jpeg:https://antslakultuur.ee/wp-content/uploads/2025/11/advendialgus-2025-.jpg
END:VEVENT
END:VCALENDAR